BEGIN:VCALENDAR
VERSION:2.0
PRODID:-//Sycamore Hill Gardens - ECPv6.15.20//NONSGML v1.0//EN
CALSCALE:GREGORIAN
METHOD:PUBLISH
X-ORIGINAL-URL:https://www.sycamorehillgardens.com
X-WR-CALDESC:Events for Sycamore Hill Gardens
REFRESH-INTERVAL;VALUE=DURATION:PT1H
X-Robots-Tag:noindex
X-PUBLISHED-TTL:PT1H
BEGIN:VTIMEZONE
TZID:America/New_York
BEGIN:DAYLIGHT
TZOFFSETFROM:-0500
TZOFFSETTO:-0400
TZNAME:EDT
DTSTART:20250309T070000
END:DAYLIGHT
BEGIN:STANDARD
TZOFFSETFROM:-0400
TZOFFSETTO:-0500
TZNAME:EST
DTSTART:20251102T060000
END:STANDARD
BEGIN:DAYLIGHT
TZOFFSETFROM:-0500
TZOFFSETTO:-0400
TZNAME:EDT
DTSTART:20260308T070000
END:DAYLIGHT
BEGIN:STANDARD
TZOFFSETFROM:-0400
TZOFFSETTO:-0500
TZNAME:EST
DTSTART:20261101T060000
END:STANDARD
BEGIN:DAYLIGHT
TZOFFSETFROM:-0500
TZOFFSETTO:-0400
TZNAME:EDT
DTSTART:20270314T070000
END:DAYLIGHT
BEGIN:STANDARD
TZOFFSETFROM:-0400
TZOFFSETTO:-0500
TZNAME:EST
DTSTART:20271107T060000
END:STANDARD
END:VTIMEZONE
BEGIN:VEVENT
DTSTART;TZID=America/New_York:20260510T100000
DTEND;TZID=America/New_York:20260510T160000
DTSTAMP:20260424T192313
CREATED:20260328T223642Z
LAST-MODIFIED:20260328T223642Z
UID:10000891-1778407200-1778428800@www.sycamorehillgardens.com
SUMMARY:2026 Mother's Day Garden Tour
DESCRIPTION:Sunday\, May 10\, 2026 from 10am – 4pm\nTickets will go on sale April 1\, 2026 at baltimorewoods.org/mothers-day-garden-tour-at-sycamore-hill-gardens\n\n\n\nStroll the gardens with family and friends!\nBring the family to Sycamore Hill Gardens in Marcellus for a one-of-a-kind\, outdoor garden experience like no other! The Garden Tour is a not-to-be-missed spring event in Central New York. For many it’s a yearly tradition and for newcomers\, the gardens are awe-inspiring. At this self-guided event\, you can stroll the lawns and paths through 40+ acres of vibrant gardens\, with amazing sights and surprises around every turn. Bring a picnic lunch\, find a cozy spot\, and soak up the afternoon sunshine by the pond at this fun family day full of exploration and wonder around every turn. \nAll garden tour proceeds benefit Baltimore Woods Nature Center in its mission of connecting communities and nature in wisdom and wonder\, both at the Baltimore Woods nature preserve and across Central New York.
URL:https://www.sycamorehillgardens.com/event/2026-mothers-day-garden-tour/
LOCATION:Sycamore Hill Gardens\, 2130 Old Seneca Turnpike\, Marcellus\, NY\, 13108\, United States
CATEGORIES:Nonprofit
ATTACH;FMTTYPE=image/jpeg:https://www.sycamorehillgardens.com/wp-content/uploads/2014/10/SPRING-CRAB-FLOWERS-e1711317652559.jpeg
GEO:42.981515;-76.360342
X-APPLE-STRUCTURED-LOCATION;VALUE=URI;X-ADDRESS=Sycamore Hill Gardens 2130 Old Seneca Turnpike Marcellus NY 13108 United States;X-APPLE-RADIUS=500;X-TITLE=2130 Old Seneca Turnpike:geo:-76.360342,42.981515
END:VEVENT
END:VCALENDAR